BEGIN:VCALENDAR
VERSION:2.0
PRODID:-//Tierschutz Austria - Die Stimme der Tiere. Seit 1846. - ECPv6.15.17.1//NONSGML v1.0//EN
CALSCALE:GREGORIAN
METHOD:PUBLISH
X-ORIGINAL-URL:https://www.tierschutz-austria.at
X-WR-CALDESC:Veranstaltungen für Tierschutz Austria - Die Stimme der Tiere. Seit 1846.
REFRESH-INTERVAL;VALUE=DURATION:PT1H
X-Robots-Tag:noindex
X-PUBLISHED-TTL:PT1H
BEGIN:VTIMEZONE
TZID:Europe/Vienna
BEGIN:DAYLIGHT
TZOFFSETFROM:+0100
TZOFFSETTO:+0200
TZNAME:CEST
DTSTART:20240331T010000
END:DAYLIGHT
BEGIN:STANDARD
TZOFFSETFROM:+0200
TZOFFSETTO:+0100
TZNAME:CET
DTSTART:20241027T010000
END:STANDARD
BEGIN:DAYLIGHT
TZOFFSETFROM:+0100
TZOFFSETTO:+0200
TZNAME:CEST
DTSTART:20250330T010000
END:DAYLIGHT
BEGIN:STANDARD
TZOFFSETFROM:+0200
TZOFFSETTO:+0100
TZNAME:CET
DTSTART:20251026T010000
END:STANDARD
BEGIN:DAYLIGHT
TZOFFSETFROM:+0100
TZOFFSETTO:+0200
TZNAME:CEST
DTSTART:20260329T010000
END:DAYLIGHT
BEGIN:STANDARD
TZOFFSETFROM:+0200
TZOFFSETTO:+0100
TZNAME:CET
DTSTART:20261025T010000
END:STANDARD
END:VTIMEZONE
BEGIN:VEVENT
DTSTART;TZID=Europe/Vienna:20251005T100000
DTEND;TZID=Europe/Vienna:20251005T143000
DTSTAMP:20260423T222707
CREATED:20250513T092823Z
LAST-MODIFIED:20250513T093404Z
UID:10000367-1759658400-1759674600@www.tierschutz-austria.at
SUMMARY:Tierschutzlauf
DESCRIPTION:Tierschutzlauf \nDer beliebte Wiener Tierschutzlauf findet am 05. Oktober 2025 zum 14. Mal statt. Zusammen mit der Veganen Gesellschaft Österreich sind wir bereits zum dritten Mal Co-Veranstalter. Sie laufen gerne und lieben Tiere? Mit diesem einzigartigen Laufevent können Sie ein Zeichen setzen und sich für Tiere stark machen. Der Erlös kommt zu 100% den Kampagnen der Veganen Gesellschaft Österreich zugute. \nInfos & Anmeldung \n\n  \nOrt:\n\nPrater Hauptallee\, Höhe Meiereistraße\n\n  \nBewerbe:\n\n100m Knirpslauf: 0-7 Jahre\, kostenlos\, Start 11:30 Uhr (Startnummern werden selbst gebastelt\, keine Startnummernabholung notwendig!)\n850m Schüler:innenlauf 8-13 Jahre\, Warm Up: 11:45 Uhr\, Start: 12:00 Uhr\n5km und 10km Hauptläufe\, Warm Up: 13:15 Uhr\, Start: 13:30 Uhr\n5km Nordic Walk\, Warm Up: 13:15 Uhr\, Start: 13:40 Uhr
URL:https://www.tierschutz-austria.at/event/tierschutzlauf/
LOCATION:Prater Hauptallee\, Lauftreff Prater Hauptallee Stadionparkplatz\, Wien\, Wien\, 1020\, Austria
ATTACH;FMTTYPE=image/jpeg:https://www.tierschutz-austria.at/wp-content/uploads/2025/05/tsl_25_web.jpg
END:VEVENT
END:VCALENDAR